Workbook

Sheet Subscriptions
A1: Service | B1: Category | C1: Amount | D1: Currency | E1: Billing cycle | F1: Next renewal | G1: Trial ends | H1: Status | I1: Per month | J1: Per year | K1: Days to renewal | L1: Notes
A2: Claude Pro | B2: AI Tools | C2: 20 | D2: USD | E2: Monthly | F2: 46335 | H2: Active | I2: =IF(OR(C2="",E2=""),"",IF(E2="Weekly",C2*52/12,IF(E2="Monthly",C2,IF(E2="Quarterly",C2/3,IF(E2="Yearly",C2/12,""))))) | J2: =IF(OR(C2="",E2=""),"",IF(E2="Weekly",C2*52,IF(E2="Monthly",C2*12,IF(E2="Quarterly",C2*4,IF(E2="Yearly",C2,""))))) | K2: =IF(F2="","",F2-TODAY()) | L2: Example: replace with your own
A3: Figma | B3: Design | C3: 15 | D3: USD | E3: Monthly | F3: 46329 | H3: Active | I3: =IF(OR(C3="",E3=""),"",IF(E3="Weekly",C3*52/12,IF(E3="Monthly",C3,IF(E3="Quarterly",C3/3,IF(E3="Yearly",C3/12,""))))) | J3: =IF(OR(C3="",E3=""),"",IF(E3="Weekly",C3*52,IF(E3="Monthly",C3*12,IF(E3="Quarterly",C3*4,IF(E3="Yearly",C3,""))))) | K3: =IF(F3="","",F3-TODAY()) | L3: Example: replace with your own
A4: Notion | B4: Productivity | C4: 10 | D4: USD | E4: Monthly | F4: 46333 | H4: Active | I4: =IF(OR(C4="",E4=""),"",IF(E4="Weekly",C4*52/12,IF(E4="Monthly",C4,IF(E4="Quarterly",C4/3,IF(E4="Yearly",C4/12,""))))) | J4: =IF(OR(C4="",E4=""),"",IF(E4="Weekly",C4*52,IF(E4="Monthly",C4*12,IF(E4="Quarterly",C4*4,IF(E4="Yearly",C4,""))))) | K4: =IF(F4="","",F4-TODAY()) | L4: Example: replace with your own
A5: 1Password | B5: Productivity | C5: 36 | D5: USD | E5: Yearly | F5: 46447 | H5: Active | I5: =IF(OR(C5="",E5=""),"",IF(E5="Weekly",C5*52/12,IF(E5="Monthly",C5,IF(E5="Quarterly",C5/3,IF(E5="Yearly",C5/12,""))))) | J5: =IF(OR(C5="",E5=""),"",IF(E5="Weekly",C5*52,IF(E5="Monthly",C5*12,IF(E5="Quarterly",C5*4,IF(E5="Yearly",C5,""))))) | K5: =IF(F5="","",F5-TODAY()) | L5: Example: replace with your own
A6: Spotify | B6: Music | C6: 11.99 | D6: EUR | E6: Monthly | F6: 46344 | H6: Active | I6: =IF(OR(C6="",E6=""),"",IF(E6="Weekly",C6*52/12,IF(E6="Monthly",C6,IF(E6="Quarterly",C6/3,IF(E6="Yearly",C6/12,""))))) | J6: =IF(OR(C6="",E6=""),"",IF(E6="Weekly",C6*52,IF(E6="Monthly",C6*12,IF(E6="Quarterly",C6*4,IF(E6="Yearly",C6,""))))) | K6: =IF(F6="","",F6-TODAY()) | L6: Example: replace with your own
A7: Video editing app | B7: Design | C7: 9.99 | D7: USD | E7: Monthly | F7: 46328 | G7: 46327 | H7: Trial | I7: =IF(OR(C7="",E7=""),"",IF(E7="Weekly",C7*52/12,IF(E7="Monthly",C7,IF(E7="Quarterly",C7/3,IF(E7="Yearly",C7/12,""))))) | J7: =IF(OR(C7="",E7=""),"",IF(E7="Weekly",C7*52,IF(E7="Monthly",C7*12,IF(E7="Quarterly",C7*4,IF(E7="Yearly",C7,""))))) | K7: =IF(F7="","",F7-TODAY()) | L7: Example: replace with your own
I8: =IF(OR(C8="",E8=""),"",IF(E8="Weekly",C8*52/12,IF(E8="Monthly",C8,IF(E8="Quarterly",C8/3,IF(E8="Yearly",C8/12,""))))) | J8: =IF(OR(C8="",E8=""),"",IF(E8="Weekly",C8*52,IF(E8="Monthly",C8*12,IF(E8="Quarterly",C8*4,IF(E8="Yearly",C8,""))))) | K8: =IF(F8="","",F8-TODAY())
I9: =IF(OR(C9="",E9=""),"",IF(E9="Weekly",C9*52/12,IF(E9="Monthly",C9,IF(E9="Quarterly",C9/3,IF(E9="Yearly",C9/12,""))))) | J9: =IF(OR(C9="",E9=""),"",IF(E9="Weekly",C9*52,IF(E9="Monthly",C9*12,IF(E9="Quarterly",C9*4,IF(E9="Yearly",C9,""))))) | K9: =IF(F9="","",F9-TODAY())
I10: =IF(OR(C10="",E10=""),"",IF(E10="Weekly",C10*52/12,IF(E10="Monthly",C10,IF(E10="Quarterly",C10/3,IF(E10="Yearly",C10/12,""))))) | J10: =IF(OR(C10="",E10=""),"",IF(E10="Weekly",C10*52,IF(E10="Monthly",C10*12,IF(E10="Quarterly",C10*4,IF(E10="Yearly",C10,""))))) | K10: =IF(F10="","",F10-TODAY())
I11: =IF(OR(C11="",E11=""),"",IF(E11="Weekly",C11*52/12,IF(E11="Monthly",C11,IF(E11="Quarterly",C11/3,IF(E11="Yearly",C11/12,""))))) | J11: =IF(OR(C11="",E11=""),"",IF(E11="Weekly",C11*52,IF(E11="Monthly",C11*12,IF(E11="Quarterly",C11*4,IF(E11="Yearly",C11,""))))) | K11: =IF(F11="","",F11-TODAY())
I12: =IF(OR(C12="",E12=""),"",IF(E12="Weekly",C12*52/12,IF(E12="Monthly",C12,IF(E12="Quarterly",C12/3,IF(E12="Yearly",C12/12,""))))) | J12: =IF(OR(C12="",E12=""),"",IF(E12="Weekly",C12*52,IF(E12="Monthly",C12*12,IF(E12="Quarterly",C12*4,IF(E12="Yearly",C12,""))))) | K12: =IF(F12="","",F12-TODAY())
I13: =IF(OR(C13="",E13=""),"",IF(E13="Weekly",C13*52/12,IF(E13="Monthly",C13,IF(E13="Quarterly",C13/3,IF(E13="Yearly",C13/12,""))))) | J13: =IF(OR(C13="",E13=""),"",IF(E13="Weekly",C13*52,IF(E13="Monthly",C13*12,IF(E13="Quarterly",C13*4,IF(E13="Yearly",C13,""))))) | K13: =IF(F13="","",F13-TODAY())
I14: =IF(OR(C14="",E14=""),"",IF(E14="Weekly",C14*52/12,IF(E14="Monthly",C14,IF(E14="Quarterly",C14/3,IF(E14="Yearly",C14/12,""))))) | J14: =IF(OR(C14="",E14=""),"",IF(E14="Weekly",C14*52,IF(E14="Monthly",C14*12,IF(E14="Quarterly",C14*4,IF(E14="Yearly",C14,""))))) | K14: =IF(F14="","",F14-TODAY())
I15: =IF(OR(C15="",E15=""),"",IF(E15="Weekly",C15*52/12,IF(E15="Monthly",C15,IF(E15="Quarterly",C15/3,IF(E15="Yearly",C15/12,""))))) | J15: =IF(OR(C15="",E15=""),"",IF(E15="Weekly",C15*52,IF(E15="Monthly",C15*12,IF(E15="Quarterly",C15*4,IF(E15="Yearly",C15,""))))) | K15: =IF(F15="","",F15-TODAY())
I16: =IF(OR(C16="",E16=""),"",IF(E16="Weekly",C16*52/12,IF(E16="Monthly",C16,IF(E16="Quarterly",C16/3,IF(E16="Yearly",C16/12,""))))) | J16: =IF(OR(C16="",E16=""),"",IF(E16="Weekly",C16*52,IF(E16="Monthly",C16*12,IF(E16="Quarterly",C16*4,IF(E16="Yearly",C16,""))))) | K16: =IF(F16="","",F16-TODAY())
I17: =IF(OR(C17="",E17=""),"",IF(E17="Weekly",C17*52/12,IF(E17="Monthly",C17,IF(E17="Quarterly",C17/3,IF(E17="Yearly",C17/12,""))))) | J17: =IF(OR(C17="",E17=""),"",IF(E17="Weekly",C17*52,IF(E17="Monthly",C17*12,IF(E17="Quarterly",C17*4,IF(E17="Yearly",C17,""))))) | K17: =IF(F17="","",F17-TODAY())
I18: =IF(OR(C18="",E18=""),"",IF(E18="Weekly",C18*52/12,IF(E18="Monthly",C18,IF(E18="Quarterly",C18/3,IF(E18="Yearly",C18/12,""))))) | J18: =IF(OR(C18="",E18=""),"",IF(E18="Weekly",C18*52,IF(E18="Monthly",C18*12,IF(E18="Quarterly",C18*4,IF(E18="Yearly",C18,""))))) | K18: =IF(F18="","",F18-TODAY())
I19: =IF(OR(C19="",E19=""),"",IF(E19="Weekly",C19*52/12,IF(E19="Monthly",C19,IF(E19="Quarterly",C19/3,IF(E19="Yearly",C19/12,""))))) | J19: =IF(OR(C19="",E19=""),"",IF(E19="Weekly",C19*52,IF(E19="Monthly",C19*12,IF(E19="Quarterly",C19*4,IF(E19="Yearly",C19,""))))) | K19: =IF(F19="","",F19-TODAY())
... I201: =IF(OR(C201="",E201=""),"",IF(E201="Weekly",C201*52/12,IF(E201="Monthly",C201,IF(E201="Quarterly",C201/3,IF(E201="Yearly",C201/12,""))))) | J201: =IF(OR(C201="",E201=""),"",IF(E201="Weekly",C201*52,IF(E201="Monthly",C201*12,IF(E201="Quarterly",C201*4,IF(E201="Yearly",C201,""))))) | K201: =IF(F201="","",F201-TODAY())

Sheet Summary
A1: Currency | B1: Per month | C1: Per year | D1: Active subscriptions
A2: USD | B2: =SUMIFS(Subscriptions!I2:I201,Subscriptions!D2:D201,A2,Subscriptions!H2:H201,"Active")+SUMIFS(Subscriptions!I2:I201,Subscriptions!D2:D201,A2,Subscriptions!H2:H201,"Trial") | C2: =SUMIFS(Subscriptions!J2:J201,Subscriptions!D2:D201,A2,Subscriptions!H2:H201,"Active")+SUMIFS(Subscriptions!J2:J201,Subscriptions!D2:D201,A2,Subscriptions!H2:H201,"Trial") | D2: =COUNTIFS(Subscriptions!D2:D201,A2,Subscriptions!H2:H201,"Active")
A3: EUR | B3: =SUMIFS(Subscriptions!I2:I201,Subscriptions!D2:D201,A3,Subscriptions!H2:H201,"Active")+SUMIFS(Subscriptions!I2:I201,Subscriptions!D2:D201,A3,Subscriptions!H2:H201,"Trial") | C3: =SUMIFS(Subscriptions!J2:J201,Subscriptions!D2:D201,A3,Subscriptions!H2:H201,"Active")+SUMIFS(Subscriptions!J2:J201,Subscriptions!D2:D201,A3,Subscriptions!H2:H201,"Trial") | D3: =COUNTIFS(Subscriptions!D2:D201,A3,Subscriptions!H2:H201,"Active")
A4: GBP | B4: =SUMIFS(Subscriptions!I2:I201,Subscriptions!D2:D201,A4,Subscriptions!H2:H201,"Active")+SUMIFS(Subscriptions!I2:I201,Subscriptions!D2:D201,A4,Subscriptions!H2:H201,"Trial") | C4: =SUMIFS(Subscriptions!J2:J201,Subscriptions!D2:D201,A4,Subscriptions!H2:H201,"Active")+SUMIFS(Subscriptions!J2:J201,Subscriptions!D2:D201,A4,Subscriptions!H2:H201,"Trial") | D4: =COUNTIFS(Subscriptions!D2:D201,A4,Subscriptions!H2:H201,"Active")
A5: CAD | B5: =SUMIFS(Subscriptions!I2:I201,Subscriptions!D2:D201,A5,Subscriptions!H2:H201,"Active")+SUMIFS(Subscriptions!I2:I201,Subscriptions!D2:D201,A5,Subscriptions!H2:H201,"Trial") | C5: =SUMIFS(Subscriptions!J2:J201,Subscriptions!D2:D201,A5,Subscriptions!H2:H201,"Active")+SUMIFS(Subscriptions!J2:J201,Subscriptions!D2:D201,A5,Subscriptions!H2:H201,"Trial") | D5: =COUNTIFS(Subscriptions!D2:D201,A5,Subscriptions!H2:H201,"Active")
A6: AUD | B6: =SUMIFS(Subscriptions!I2:I201,Subscriptions!D2:D201,A6,Subscriptions!H2:H201,"Active")+SUMIFS(Subscriptions!I2:I201,Subscriptions!D2:D201,A6,Subscriptions!H2:H201,"Trial") | C6: =SUMIFS(Subscriptions!J2:J201,Subscriptions!D2:D201,A6,Subscriptions!H2:H201,"Active")+SUMIFS(Subscriptions!J2:J201,Subscriptions!D2:D201,A6,Subscriptions!H2:H201,"Trial") | D6: =COUNTIFS(Subscriptions!D2:D201,A6,Subscriptions!H2:H201,"Active")
A7: JPY | B7: =SUMIFS(Subscriptions!I2:I201,Subscriptions!D2:D201,A7,Subscriptions!H2:H201,"Active")+SUMIFS(Subscriptions!I2:I201,Subscriptions!D2:D201,A7,Subscriptions!H2:H201,"Trial") | C7: =SUMIFS(Subscriptions!J2:J201,Subscriptions!D2:D201,A7,Subscriptions!H2:H201,"Active")+SUMIFS(Subscriptions!J2:J201,Subscriptions!D2:D201,A7,Subscriptions!H2:H201,"Trial") | D7: =COUNTIFS(Subscriptions!D2:D201,A7,Subscriptions!H2:H201,"Active")
A8: GEL | B8: =SUMIFS(Subscriptions!I2:I201,Subscriptions!D2:D201,A8,Subscriptions!H2:H201,"Active")+SUMIFS(Subscriptions!I2:I201,Subscriptions!D2:D201,A8,Subscriptions!H2:H201,"Trial") | C8: =SUMIFS(Subscriptions!J2:J201,Subscriptions!D2:D201,A8,Subscriptions!H2:H201,"Active")+SUMIFS(Subscriptions!J2:J201,Subscriptions!D2:D201,A8,Subscriptions!H2:H201,"Trial") | D8: =COUNTIFS(Subscriptions!D2:D201,A8,Subscriptions!H2:H201,"Active")
A10: Renewing in the next 30 days | B10: =COUNTIFS(Subscriptions!K2:K201,">=0",Subscriptions!K2:K201,"<=30",Subscriptions!H2:H201,"<>Canceled")
A11: Trials ending in the next 7 days | B11: =SUMPRODUCT((Subscriptions!G2:G201<>"")*(Subscriptions!G2:G201-TODAY()>=0)*(Subscriptions!G2:G201-TODAY()<=7))
A13: Totals are per currency. Subskim converts every currency into one total for you: subskim.com

Sheet How to use
A1: Subscription tracker by Subskim
A3: 1. Replace the example rows on the Subscriptions sheet with your own.
A4: 2. Pick the category, currency, billing cycle and status from the drop-downs.
A5: 3. Enter the next renewal date. Days to renewal and the per-month and per-year columns fill in.
A6: 4. Rows renewing in the next 7 days and trials ending in the next 3 days turn amber.
A7: 5. After a renewal, move Next renewal forward by one cycle.
A9: Billing cycles: weekly = amount x 52 / 12 per month, quarterly = amount / 3, yearly = amount / 12.
A11: Want renewal dates to roll forward on their own, one total across currencies and a renewal calendar?
A12: Subskim does that for free: https://subskim.com
